BEGIN:VCALENDAR
VERSION:2.0
PRODID:-//Barton Civic Society - ECPv6.15.17//NONSGML v1.0//EN
CALSCALE:GREGORIAN
METHOD:PUBLISH
X-ORIGINAL-URL:https://www.bartoncivicsociety.co.uk
X-WR-CALDESC:Events for Barton Civic Society
REFRESH-INTERVAL;VALUE=DURATION:PT1H
X-Robots-Tag:noindex
X-PUBLISHED-TTL:PT1H
BEGIN:VTIMEZONE
TZID:Europe/London
BEGIN:DAYLIGHT
TZOFFSETFROM:+0000
TZOFFSETTO:+0100
TZNAME:BST
DTSTART:20220327T010000
END:DAYLIGHT
BEGIN:STANDARD
TZOFFSETFROM:+0100
TZOFFSETTO:+0000
TZNAME:GMT
DTSTART:20221030T010000
END:STANDARD
BEGIN:DAYLIGHT
TZOFFSETFROM:+0000
TZOFFSETTO:+0100
TZNAME:BST
DTSTART:20230326T010000
END:DAYLIGHT
BEGIN:STANDARD
TZOFFSETFROM:+0100
TZOFFSETTO:+0000
TZNAME:GMT
DTSTART:20231029T010000
END:STANDARD
BEGIN:DAYLIGHT
TZOFFSETFROM:+0000
TZOFFSETTO:+0100
TZNAME:BST
DTSTART:20240331T010000
END:DAYLIGHT
BEGIN:STANDARD
TZOFFSETFROM:+0100
TZOFFSETTO:+0000
TZNAME:GMT
DTSTART:20241027T010000
END:STANDARD
END:VTIMEZONE
BEGIN:VEVENT
DTSTART;VALUE=DATE:20230908
DTEND;VALUE=DATE:20230918
DTSTAMP:20260423T093204
CREATED:20230309T091010Z
LAST-MODIFIED:20230309T092201Z
UID:1330-1694131200-1694995199@www.bartoncivicsociety.co.uk
SUMMARY:Barton Heritage Open Days
DESCRIPTION:Barton upon Humber has a rich and varied history like many market towns in England.  However\, it stands apart from the rest by virtue of the in-depth research and numerous publications about the town’s heritage.  There is also a trail booklet “Barton upon Humber Town Guide” to guide walkers exploring the town.  These are available from The Ropewalk\, on Maltkiln Road and the Wilderspin & National School Museum\, on Queen Street.  There is also a digital trail available to download from hiddenhistory.org.uk/barton \nThis year’s programme aims to acquaint new residents with the heritage delights of our town\, as well as showing them off to visitors from further afield. Full programme details will be available in the summer.
URL:https://www.bartoncivicsociety.co.uk/event/barton-heritage-open-days/
LOCATION:North Lincolnshire
END:VEVENT
END:VCALENDAR